BEGIN:VCALENDAR
VERSION:2.0
PRODID:icalendar-ruby
CALSCALE:GREGORIAN
METHOD:PUBLISH
BEGIN:VEVENT
DTSTAMP:20260422T214814Z
UID:281-990841@gccob.com
DTSTART:20260923T233000Z
DTEND:20260924T010000Z
CLASS:PUBLIC
CREATED:20260422T145828
DESCRIPTION:Join a Group: Experience Community Like Never Before\nAre you l
 ooking for a place where you can grow in your faith\, build meaningful rel
 ationships\, and truly feel connected? Our small groups are the perfect op
 portunity for you to experience community in a profound way. Here’s how 
 joining a small group can help you feel loved\, challenged\, needed\, and
  known:\nLoved: In our small groups\, you’ll find a supportive and carin
 g environment where you can share your joys and struggles. You’ll be sur
 rounded by people who genuinely care about you and are committed to walkin
 g alongside you in your faith journey.\nChallenged: Small groups provide a
  space for you to grow spiritually and intellectually. Through engaging di
 scussions\, Bible studies\, and shared experiences\, you’ll be encourage
 d to deepen your understanding of God’s Word and apply it to your life.\
 nNeeded: Every member of our small groups plays a vital role. Your unique 
 gifts and talents are valued\, and you’ll have opportunities to serve an
 d contribute in meaningful ways. Whether it’s through prayer\, encourage
 ment\, or practical help\, you’ll discover how much you are needed and a
 ppreciated.\nKnown: In a small group\, you won’t just be another face in
  the crowd. You’ll have the chance to build authentic relationships and 
 be truly known by others. This sense of belonging fosters a deeper connect
 ion and helps you feel seen and valued.\nDon’t miss out on the incredibl
 e benefits of being part of a group. Join us and experience the love\, gro
 wth\, purpose\, and connection that come from being in community with othe
 rs.\nSign Up Today!\nFill this form out and we will get in touch with you:
  https://www.gccob.com/group\nWe can’t wait to welcome you into our grou
 p community!
LAST-MODIFIED:20260422T145828
LOCATION:
SUMMARY:Groups
URL;VALUE=URI:https://www.gccob.com/events/groups/2026-09-23
ATTACH;FILENAME=Small-Groups-Green-Highlight-Shoes---Subtitle-min.jpg;FMTTY
 PE=image/jpeg:https://dq5pwpg1q8ru0.cloudfront.net/2024/09/17/18/11/13/e87
 42ce9-319a-4db2-8213-071cedca658b/Small-Groups-Green-Highlight-Shoes---Sub
 title-min.jpg
END:VEVENT
END:VCALENDAR
